BEGIN:VCALENDAR
VERSION:2.0
PRODID:-//Barsbütteler SV - ECPv6.15.16//NONSGML v1.0//EN
CALSCALE:GREGORIAN
METHOD:PUBLISH
X-ORIGINAL-URL:https://www.barsbuetteler-sv.de
X-WR-CALDESC:Veranstaltungen für Barsbütteler SV
REFRESH-INTERVAL;VALUE=DURATION:PT1H
X-Robots-Tag:noindex
X-PUBLISHED-TTL:PT1H
BEGIN:VTIMEZONE
TZID:Europe/Paris
BEGIN:DAYLIGHT
TZOFFSETFROM:+0100
TZOFFSETTO:+0200
TZNAME:CEST
DTSTART:20240331T010000
END:DAYLIGHT
BEGIN:STANDARD
TZOFFSETFROM:+0200
TZOFFSETTO:+0100
TZNAME:CET
DTSTART:20241027T010000
END:STANDARD
BEGIN:DAYLIGHT
TZOFFSETFROM:+0100
TZOFFSETTO:+0200
TZNAME:CEST
DTSTART:20250330T010000
END:DAYLIGHT
BEGIN:STANDARD
TZOFFSETFROM:+0200
TZOFFSETTO:+0100
TZNAME:CET
DTSTART:20251026T010000
END:STANDARD
BEGIN:DAYLIGHT
TZOFFSETFROM:+0100
TZOFFSETTO:+0200
TZNAME:CEST
DTSTART:20260329T010000
END:DAYLIGHT
BEGIN:STANDARD
TZOFFSETFROM:+0200
TZOFFSETTO:+0100
TZNAME:CET
DTSTART:20261025T010000
END:STANDARD
END:VTIMEZONE
BEGIN:VEVENT
DTSTART;TZID=Europe/Paris:20251204T170000
DTEND;TZID=Europe/Paris:20251207T200000
DTSTAMP:20260419T172013
CREATED:20250224T154947Z
LAST-MODIFIED:20250224T154947Z
UID:1785-1764867600-1765137600@www.barsbuetteler-sv.de
SUMMARY:Barsbütteler Weihnachtsmarkt
DESCRIPTION:
URL:https://www.barsbuetteler-sv.de/event/barsbuetteler-weihnachtsmarkt-2/
LOCATION:Hinterm Garten 2\, Hinterm Garten 2\, Barsbüttel\, Deutschland\, 22885
ORGANIZER;CN="Barsb%C3%BCtteler SV":MAILTO:info@barsbuetteler-sv.de
END:VEVENT
BEGIN:VEVENT
DTSTART;TZID=Europe/Paris:20251218T180000
DTEND;TZID=Europe/Paris:20251218T200000
DTSTAMP:20260419T172013
CREATED:20250224T160141Z
LAST-MODIFIED:20250224T161930Z
UID:1804-1766080800-1766088000@www.barsbuetteler-sv.de
SUMMARY:Barsbütteler Weihnachtsparade
DESCRIPTION:
URL:https://www.barsbuetteler-sv.de/event/barsbuetteler-weihnachtsmarkt-3/
LOCATION:Hinterm Garten 2\, Hinterm Garten 2\, Barsbüttel\, Deutschland\, 22885
ORGANIZER;CN="Barsb%C3%BCtteler SV":MAILTO:info@barsbuetteler-sv.de
END:VEVENT
END:VCALENDAR