BEGIN:VCALENDAR
VERSION:2.0
PRODID:-//Barsbütteler SV - ECPv6.15.16//NONSGML v1.0//EN
CALSCALE:GREGORIAN
METHOD:PUBLISH
X-WR-CALNAME:Barsbütteler SV
X-ORIGINAL-URL:https://www.barsbuetteler-sv.de
X-WR-CALDESC:Veranstaltungen für Barsbütteler SV
REFRESH-INTERVAL;VALUE=DURATION:PT1H
X-Robots-Tag:noindex
X-PUBLISHED-TTL:PT1H
BEGIN:VTIMEZONE
TZID:Europe/Paris
BEGIN:DAYLIGHT
TZOFFSETFROM:+0100
TZOFFSETTO:+0200
TZNAME:CEST
DTSTART:20240331T010000
END:DAYLIGHT
BEGIN:STANDARD
TZOFFSETFROM:+0200
TZOFFSETTO:+0100
TZNAME:CET
DTSTART:20241027T010000
END:STANDARD
BEGIN:DAYLIGHT
TZOFFSETFROM:+0100
TZOFFSETTO:+0200
TZNAME:CEST
DTSTART:20250330T010000
END:DAYLIGHT
BEGIN:STANDARD
TZOFFSETFROM:+0200
TZOFFSETTO:+0100
TZNAME:CET
DTSTART:20251026T010000
END:STANDARD
BEGIN:DAYLIGHT
TZOFFSETFROM:+0100
TZOFFSETTO:+0200
TZNAME:CEST
DTSTART:20260329T010000
END:DAYLIGHT
BEGIN:STANDARD
TZOFFSETFROM:+0200
TZOFFSETTO:+0100
TZNAME:CET
DTSTART:20261025T010000
END:STANDARD
END:VTIMEZONE
BEGIN:VEVENT
DTSTART;TZID=Europe/Paris:20250921T090000
DTEND;TZID=Europe/Paris:20250921T150000
DTSTAMP:20260419T234400
CREATED:20250224T155752Z
LAST-MODIFIED:20250704T153227Z
UID:1800-1758445200-1758466800@www.barsbuetteler-sv.de
SUMMARY:Flohmarkt Am Akku
DESCRIPTION:Flohmarkt_2025_2_A4_Ankündigung
URL:https://www.barsbuetteler-sv.de/event/flohmarkt-am-akku-4/
LOCATION:Am Akku\, Am Akku 7\, Barsbüttel\, Deutschland\, 22885\, Deutschland
ORGANIZER;CN="Barsb%C3%BCtteler SV":MAILTO:info@barsbuetteler-sv.de
END:VEVENT
END:VCALENDAR